BEGIN:VCALENDAR
VERSION:2.0
PRODID:-//Horsemanshipcollege - ECPv6.15.20//NONSGML v1.0//EN
CALSCALE:GREGORIAN
METHOD:PUBLISH
X-WR-CALNAME:Horsemanshipcollege
X-ORIGINAL-URL:https://www.horsemanshipcollege.de
X-WR-CALDESC:Veranstaltungen für Horsemanshipcollege
REFRESH-INTERVAL;VALUE=DURATION:PT1H
X-Robots-Tag:noindex
X-PUBLISHED-TTL:PT1H
BEGIN:VTIMEZONE
TZID:Europe/Vienna
BEGIN:DAYLIGHT
TZOFFSETFROM:+0100
TZOFFSETTO:+0200
TZNAME:CEST
DTSTART:20250330T010000
END:DAYLIGHT
BEGIN:STANDARD
TZOFFSETFROM:+0200
TZOFFSETTO:+0100
TZNAME:CET
DTSTART:20251026T010000
END:STANDARD
BEGIN:DAYLIGHT
TZOFFSETFROM:+0100
TZOFFSETTO:+0200
TZNAME:CEST
DTSTART:20260329T010000
END:DAYLIGHT
BEGIN:STANDARD
TZOFFSETFROM:+0200
TZOFFSETTO:+0100
TZNAME:CET
DTSTART:20261025T010000
END:STANDARD
BEGIN:DAYLIGHT
TZOFFSETFROM:+0100
TZOFFSETTO:+0200
TZNAME:CEST
DTSTART:20270328T010000
END:DAYLIGHT
BEGIN:STANDARD
TZOFFSETFROM:+0200
TZOFFSETTO:+0100
TZNAME:CET
DTSTART:20271031T010000
END:STANDARD
END:VTIMEZONE
BEGIN:VEVENT
DTSTART;TZID=Europe/Vienna:20260423T200000
DTEND;TZID=Europe/Vienna:20260423T210000
DTSTAMP:20260420T105208
CREATED:20250909T061340Z
LAST-MODIFIED:20260417T200052Z
UID:3155-1776974400-1776978000@www.horsemanshipcollege.de
SUMMARY:GRATIS: ONLINE ZOOM Wir bringen Horsemanship in Dein Wohnzimmer – Horsemanship IN MIND
DESCRIPTION:GRATIS ONLINE per Zoom\nBewährt seit 2019\nTermin: Donnerstag\, 23.04.2026\nZeit: 20 Uhr bis 21.00 Uhr\nKostenloser Online-Zoom: Frag uns alles rund ums Pferd\n„Du musst nicht alles alleine herausfinden.“👉 Wir helfen dir dabei\, den nächsten Schritt zu erkennen.\nVerstehen. Vertrauen. Klarheit gewinnen.\nDu hast Fragen zu deinem Pferd oder möchtest mehr über unseren Ansatz erfahren?Dann ist dieser kostenlose Zoom genau das Richtige für dich. \nIn dieser Stunde bekommst du die Möglichkeit\, uns direkt kennenzulernen\, deine Fragen zu stellen und einen ersten Einblick in unsere Arbeitsweise zu erhalten. \n\n Das erwartet dich:\n✔ Antworten auf deine individuellen Fragen rund um dein Pferd✔ Einblick in unsere Herangehensweise und Trainingsphilosophie✔ Erste Impulse\, die du sofort mitnehmen kannst✔ Ein geschützter Raum – ganz ohne Druck und Verpflichtung \n\n Für wen ist der Zoom geeignet?\n✔ Wenn du dein Pferd besser verstehen möchtest✔ Wenn du unsicher bist\, wie du weiter vorgehen sollst✔ Wenn du dir Unterstützung wünschst\, aber noch Fragen hast✔ Wenn du uns und unsere Arbeit erst einmal kennenlernen möchtest \n\n Dein Vorteil: \n\nDu gehst mit mehr Klarheit aus dem Abend\nDu kannst besser einschätzen\, was dein nächster Schritt sein kann\nDu lernst uns persönlich kennen – ganz unverbindlich\n\n„Jetzt Platz sichern & deine Fragen stellen“\nUnverbindlich. Kostenlos. Klarheit für dich und dein Pferd. \n📧 Anmeldung: office@hellerwiesen.de📱 WhatsApp: 0151 5003 4008\nDu bekommst den Zoomlink automatisch bis Callbeginn per E-Mail zugeschickt \nKursleitung: Ursula Schmid
URL:https://www.horsemanshipcollege.de/veranstaltung/gratis-online-zoom-wir-bringen-horsemanship-in-dein-wohnzimmer-horsemanship-in-mind-3/
END:VEVENT
BEGIN:VEVENT
DTSTART;TZID=Europe/Vienna:20260501T130000
DTEND;TZID=Europe/Vienna:20260501T180000
DTSTAMP:20260420T105208
CREATED:20260301T150853Z
LAST-MODIFIED:20260417T200021Z
UID:3357-1777640400-1777658400@www.horsemanshipcollege.de
SUMMARY:Liberty Kurs– Verbindung ohne Zwang
DESCRIPTION:Vertrauen\, Klarheit und echte Verbindung – ohne Druck\, ohne Zwang\nFür alle\, die ihre Beziehung zum Pferd auf eine neue Ebene bringen möchten. \nEgal ob du erste Schritte gehst oder bereits Erfahrung mitbringst –in diesem Kurs geht es nicht um Leistung\, sondern um Bewusstsein\, Gefühl und echte Verbindung. \ndas Beste: Du lernst bewusst ohne dein eigenes Pferd. \nSo kannst du dich voll auf dich selbst\, dein Timing und deine Wahrnehmung konzentrieren –und gehst mit Klarheit und neuen Möglichkeiten nach Hause\, um sie direkt umzusetzen. \n\nFür wen ist dieser Kurs geeignet?\n✔ Für Freizeitreiter\, die ihre Verbindung vertiefen möchten✔ Für Pferdebesitzer\, die mehr Klarheit und Sicherheit suchen✔ Für Menschen mit sensiblen oder herausfordernden Pferden✔ Für alle\, die ihr Pferd besser verstehen wollen✔ Für Einsteiger & Fortgeschrittene gleichermaßen \n👉 Unabhängig von Reitweise\, Erfahrung oder körperlichen Voraussetzungen \n\nWas dich erwartet:\nLiberty im Horsemanship steht für eine feine\, respektvolle und bewusste Beziehung zum Pferd. \nIm Mittelpunkt stehen:\n👉 deine innere Haltung👉 deine Klarheit👉 deine authentische Kommunikation \n\n Kursinhalte\n✔ Grundlagen von Körpersprache\, Energie und innerer Haltung✔ Eigene Emotionen\, Grenzen und Muster erkennen✔ Pferde besser verstehen: Mimik\, Gestik & Verhalten lesen✔ Klar und fair führen – ohne Druck\, mit Präsenz✔ Bodenarbeit: Nähe\, Distanz und Raum bewusst gestalten✔ Erste Schritte im Liberty-Training (ohne Seil & Halfter)✔ Umgang mit Unsicherheit\, Angst oder Stress✔ Aufbau von Vertrauen\, Respekt und innerer Ruhe✔ Übertrag in den Alltag und dein Training \n\nDein Erlebnis im Kurs:\n👉 Du arbeitest mit speziell ausgewählten Pferden👉 Du erlebst\, wie sich echte Verbindung anfühlt👉 Du bekommst Raum für dich\, dein Gefühl und dein Lernen \nEin Kurs voller Aha-Momente\, ehrlicher Begegnungen und neuer Perspektiven. \n\nDas nimmst du mit:\n\nMehr Sicherheit im Umgang mit Pferden\nEin besseres Gefühl für dich selbst und dein Pferd\nKlarheit in deiner Kommunikation\nNeue Möglichkeiten für dein Training\nEine tiefere\, ruhigere Verbindung\n\n👉 Du gehst nach Hause – und kannst sofort anders handeln. \n\nAnsatz:\n„Echte Verbindung entsteht nicht durch Kontrolle – sondern durch Bewusstsein.“ \nUnd genau das lernst du hier. \n„Liberty – Starte jetzt echte Verbindung mit deinem Pferd“Jetzt anmelden & Kursplatz sichern:\noffice@hellerwiesen.deoder WhatsApp: 0151 5003 4008\nKurspreis: 139 €\nKursleitung: Ursula & Sarah Schmid\nVeranstaltungsort: Landhaus Hellerwiesen\, Schlaterstr. 21 – 23a
URL:https://www.horsemanshipcollege.de/veranstaltung/liberty-kurs-mit-aha-effekt/
END:VEVENT
BEGIN:VEVENT
DTSTART;TZID=Europe/Vienna:20260509T100000
DTEND;TZID=Europe/Vienna:20260509T170000
DTSTAMP:20260420T105208
CREATED:20260322T081248Z
LAST-MODIFIED:20260417T195837Z
UID:3409-1778320800-1778346000@www.horsemanshipcollege.de
SUMMARY:1-Tageskurs - „Erste Hilfe fürs Problempferd"
DESCRIPTION:Verhalten verstehen & sicher reagieren lernen\nBeißen\, schlagen\, panisches\, stures oder unberechenbares Verhalten?In diesem intensiven 1-Tageskurs lernst du\, das Verhalten deines Pferdes schnell und sicher einzuschätzen und direkt richtig zu reagieren. \nDu bekommst klare\, sofort umsetzbare Strategien\, die du noch am selben Tag anwenden kannst.\nDas erwartet dich: \n✔ Warum dein Pferd dieses Verhalten zeigt✔ Wie du kritische Situationen frühzeitig erkennst✔ Konkrete Lösungsansätze für akute Probleme✔ Erste Schritte zu mehr Vertrauen & Sicherheit✔ Mehr Klarheit im Umgang mit deinem Pferd \n\nFür wen ist der Kurs geeignet?\n\nWenn dein Pferd schnappt\, beißt oder schlägt\nWenn es panisch reagiert oder unberechenbar wirkt\nWenn du dich unsicher fühlst und schnelle Hilfe brauchst\nWenn du endlich verstehen willst\, wie dein Pferd tickt\n\n\nDein Ergebnis nach einem Tag:\n\nDu verstehst dein Pferd deutlich besser\nDu hast konkrete Werkzeuge an der Hand\nDu fühlst dich sicherer im Umgang\n\nKeine Vorkenntnisse erforderlich – reitstilunabhängig\n \nUnd ganz bewusst OHNE dein eigenes Pferd.\nWarum? \n\nKein Verladestress\nKein Druck „es muss jetzt klappen“\nKeine Ablenkung durch dein eigenes oder andere Pferde\nDu kannst dich voll auf dich und dein Lernen konzentrieren\n\n👉 Du lernst in ruhiger Atmosphäre mit unseren speziell ausgewählten Pferden –und gehst mit klarem Kopf und konkreten Lösungen nach Hause.\n„Warte nicht\, bis es schlimmer wird.“\nDu musst nicht alles alleine herausfinden.Hol dir jetzt die Unterstützung\, die dir Klarheit gibt – und deinem Pferd Sicherheit. \n👉 Jetzt Platz sichern & den ersten Schritt in eine ruhigere\, klare Zukunft mit deinem Pferd gehen.\nAnmeldung:\noffice@hellerwiesen.de\nWhatsApp: 0151 5003 4008\nKursbetrag: 159 Euro\nKursleitung:  Sarah & Ursula\nVeranstaltungsort: Schlaterstr.21-23 a in 73107 Eschenbach
URL:https://www.horsemanshipcollege.de/veranstaltung/1-tageskurs-pferdeverhalten-verstehen-loesungen-finden/
END:VEVENT
BEGIN:VEVENT
DTSTART;TZID=Europe/Vienna:20260515T183000
DTEND;TZID=Europe/Vienna:20260515T193000
DTSTAMP:20260420T105208
CREATED:20260419T171335Z
LAST-MODIFIED:20260419T172559Z
UID:3523-1778869800-1778873400@www.horsemanshipcollege.de
SUMMARY:Demostunde: Einblicke ins Training...
DESCRIPTION:Wir laden herzlich zu einer Demostunde unseres Horsemanship-Basiskurses „Pferde verstehen lernen“ ein.Erlebe wie wir trainieren und welche Ergebnisse mit unserem System möglich sind.In dieser Stunde erhältst du spannende Einblicke in unsere Unterrichtsmethoden und den feinen Umgang mit Pferden.\nNatürlich kannst du mitgebrachte Fragen vor Ort gleich stellen.Willkommen sind alle\nPferdeinteressierten\, Anfänger\, Fortgeschrittene\, ProblempferdebesitzerInnen\, Reitbeteiligungen und zukünftige PferdebesetzerInnen.Betrag: 10 €\nAnmeldung: office@hellerwiesen.de ODER per WhatsApp: 0151 5003 4008\nKursleitung: Sarah & Ursula Schmid\nVeranstaltungsort: Schlaterstr. 21-23 a in 73107 Eschenbach
URL:https://www.horsemanshipcollege.de/veranstaltung/demostunde-einblicke-ins-training/
END:VEVENT
BEGIN:VEVENT
DTSTART;TZID=Europe/Vienna:20260516T100000
DTEND;TZID=Europe/Vienna:20260516T170000
DTSTAMP:20260420T105208
CREATED:20251202T180944Z
LAST-MODIFIED:20260417T195611Z
UID:3263-1778925600-1778950800@www.horsemanshipcollege.de
SUMMARY:Basis-Kurs: Pferde verstehen lernen
DESCRIPTION:Sehr intensiver Kurstag\n Kleine Teilnehmerzahl\n Reitstilunabhängig\n\n„Du spürst\, dass mehr möglich ist – weißt aber nicht\, wo du anfangen sollst?“ \nDann ist dieser Kurs dein Einstieg in eine echte Partnerschaft mit deinem Pferd. \n\nLerne die Grundlagen der Pferdekommunikation – verständlich\, logisch und sofort umsetzbar.\nFür eine Verbindung\, die auf Vertrauen basiert – nicht auf Druck.\n\n\nWichtig: Du brauchst kein eigenes Pferd\nUnd genau das ist dein Vorteil: \n\nKein Verladestress\nKeine Ablenkung durch dein eigenes Pferd\nKein Druck\, „funktionieren zu müssen“\n\n Du lernst in Ruhe mit unseren Pferden –und gehst mit Klarheit nach Hause\, um es direkt umzusetzen. \n\nKursinhalt:\n✔ Was echte Verbindung zwischen Mensch & Pferd ausmacht\n✔ Warum Pferde sich anschließen – oder eben nicht✔ Wie partnerschaftliches Training aufgebaut ist✔ Wie du klar und fair mit deinem Pferd kommunizierst\n✔ Grundregeln der Pferdekommunikation \n👉 Wissenschaftlich fundiert – leicht verständlich – sofort anwendbar \n\nSo läuft dein Kurstag ab:\nVormittag – Verstehen\nDu bekommst klare Grundlagen und erkennst\,wie Pferde wirklich denken und reagieren. \nNachmittag – Praxis pur\nJetzt wird es konkret:\n\nÜben direkt mit unseren Pferden\nKommunikation im Hintergrundverständis des vormittags erleben\nSpüren\, wie echte Verbindung entsteht\n\n👉 Viele Teilnehmer erleben hier den entscheidenden Aha-Moment. \n\nDein Ergebnis nach diesem Tag:\n\nDu verstehst dein Pferd deutlich besser\nDu fühlst dich sicherer im Umgang\nDu weißt\, wie du starten kannst\n\n->Du gehst nicht mit Fragen nach Hause – sondern mit Klarheit. \n\n Für wen ist der Kurs geeignet?\n✔ Für alle Pferdebesitzer – egal ob Anfänger oder erfahren✔ Für alle\, die eine echte Verbindung aufbauen wollen✔ Für alle\, die ihr Pferd wirklich verstehen möchten \n\nUnser Ansatz:\n„Partnerschaft entsteht nicht durch Kontrolle – sondern durch Verständnis.“\nUnd genau das lernst du hier – Schritt für Schritt. \n„Jetzt Grundlagen lernen & echte Verbindung starten“\nAnmeldeschluss: Freitag\, 15.05.2026\n📧 office@hellerwiesen.de\nWhatsApp: 0151 5003 4008\n👉 Anmeldung mit 24h Rückmeldung\nKursbetrag: 159 €\nKursleitung: Sarah & Ursula\nVeranstaltungsort: Schlaterstr.21-23a in 73107 Eschenbach
URL:https://www.horsemanshipcollege.de/veranstaltung/basis-kurs-natural-horsemanship/
END:VEVENT
BEGIN:VEVENT
DTSTART;TZID=Europe/Vienna:20260523T100000
DTEND;TZID=Europe/Vienna:20260523T170000
DTSTAMP:20260420T105208
CREATED:20260418T190239Z
LAST-MODIFIED:20260418T190722Z
UID:3518-1779530400-1779555600@www.horsemanshipcollege.de
SUMMARY:Basis-Kurs: Pferde verstehen lernen
DESCRIPTION:Sehr intensiver Kurstag\n Kleine Teilnehmerzahl\, max. 10 Personen\n Reitstilunabhängig\n\n„Du spürst\, dass mehr möglich ist – weißt aber nicht\, wo du anfangen sollst?“ \nDann ist dieser Kurs dein Einstieg in eine echte Partnerschaft mit deinem Pferd. \n\nLerne die Grundlagen der Pferdekommunikation – verständlich\, logisch und sofort umsetzbar.\nFür eine Verbindung\, die auf Vertrauen basiert – nicht auf Druck.\n\n\nWichtig: Du brauchst kein eigenes Pferd\nUnd genau das ist dein Vorteil: \n\nKein Verladestress\nKeine Ablenkung durch dein eigenes Pferd\nKein Druck\, „funktionieren zu müssen“\n\n Du lernst in Ruhe mit unseren Pferden –und gehst mit Klarheit nach Hause\, um es direkt umzusetzen. \n\nKursinhalt:\n Was echte Verbindung zwischen Mensch & Pferd ausmacht\n Warum Pferde sich anschließen – oder eben nicht Wie partnerschaftliches Training aufgebaut ist Wie du klar und fair mit deinem Pferd kommunizierst\n Grundregeln der Pferdekommunikation \n Wissenschaftlich fundiert – leicht verständlich – sofort anwendbar \n\nSo läuft dein Kurstag ab:\nVormittag – Verstehen\nDu bekommst klare Grundlagen und erkennst\,wie Pferde wirklich denken und reagieren. \nNachmittag – Praxis pur\nJetzt wird es konkret:\n\nÜben direkt mit unseren Pferden\nKommunikation im Hintergrundverständis des vormittags erleben\nSpüren\, wie echte Verbindung entsteht\n\n Viele Teilnehmer erleben hier den entscheidenden Aha-Moment. \n\nDein Ergebnis nach diesem Tag:\n\nDu verstehst dein Pferd deutlich besser\nDu fühlst dich sicherer im Umgang\nDu weißt\, wie du starten kannst\n\n->Du gehst nicht mit Fragen nach Hause – sondern mit Klarheit. \n\n Für wen ist der Kurs geeignet?\n Für alle Pferdebesitzer – egal ob Anfänger oder erfahren Für alle\, die eine echte Verbindung aufbauen wollen Für alle\, die ihr Pferd wirklich verstehen möchten \n\nUnser Ansatz:\n„Partnerschaft entsteht nicht durch Kontrolle – sondern durch Verständnis.“\nUnd genau das lernst du hier – Schritt für Schritt. \n„Jetzt Grundlagen lernen & echte Verbindung starten“\nAnmeldeschluss: Mittwoch\, 20.05.2026\n office@hellerwiesen.de\nWhatsApp: 0151 5003 4008\n Anmeldung mit 24h Rückmeldung\nKursbetrag: 159 €\nKursleitung: Sarah & Ursula\nVeranstaltungsort: Schlaterstr.21-23a in 73107 Eschenbach
URL:https://www.horsemanshipcollege.de/veranstaltung/basis-kurs-pferde-verstehen-lernen/
END:VEVENT
END:VCALENDAR